BEGIN:VCALENDAR
VERSION:2.0
PRODID:-//MNAFAA - ECPv6.15.12.2//NONSGML v1.0//EN
CALSCALE:GREGORIAN
METHOD:PUBLISH
X-ORIGINAL-URL:https://mnafaa.org
X-WR-CALDESC:Events for MNAFAA
REFRESH-INTERVAL;VALUE=DURATION:PT1H
X-Robots-Tag:noindex
X-PUBLISHED-TTL:PT1H
BEGIN:VTIMEZONE
TZID:Asia/Karachi
BEGIN:STANDARD
TZOFFSETFROM:+0500
TZOFFSETTO:+0500
TZNAME:PKT
DTSTART:20240101T000000
END:STANDARD
END:VTIMEZONE
BEGIN:VEVENT
DTSTART;TZID=Asia/Karachi:20250911T113000
DTEND;TZID=Asia/Karachi:20250911T130000
DTSTAMP:20260422T233911
CREATED:20250514T050238Z
LAST-MODIFIED:20251031T052525Z
UID:2391-1757590200-1757595600@mnafaa.org
SUMMARY:Lunch & Learn – Plan Review from AHJs Perspective - Bill Beumer\, City of Maple Grove.
DESCRIPTION:Our Esteemed board member\, Bill Beumer\, from the City of Maple Grove will be presenting on Plan Review from an AHJ Perspective. \n \n\n\n\n\nEvent Registration\nEvent Registration\n\n\n\n\n\n\n\n\n\n\n\n	First Name\n		*\n	\n	\n	\n	\n\n\n	Last Name\n		*\n	\n	\n	\n	\n\n\n	Email\n		*\n	\n	\n	\n	\n\n\n	Company\n		\n	\n	\n	\n	\n\n\nWho will be attending?\n\n\n	Quantity\n		\n	\n	\n	\n	\n\n\n	Individual Member Registered\n		*\n	\n		\n		Individual Member Registered with MNAFAA Product: $45.00	 \n\n	\n	\n	\n	\n\n\n	Quantity\n		\n	\n	\n	\n	\n\n\n	Non-Member of MNAFAA\n		*\n	\n		\n		Non-Member of MNAFAA: $60.00	 \n\n	\n	\n	\n	\n\n\n	Quantity\n		\n	\n	\n	\n	\n\n\n	Authority Having Jurisdiction Registered\n		*\n	\n		\n		AHJ Member Registered with MNAFAA: $20.00	 \n\n	\n	\n	\n	\n\n\n\n	Additional Attendee Name & Email\n		\n	\n	\n	\n	\n\n\n	Additional Attendee Name & Email\n		\n	\n	\n	\n	\n\n\n	Additional Attendee Name & Email\n		\n	\n	\n	\n	\n\n\n	Additional Attendee Name & Email\n		\n	\n	\n	\n	\n\n\n	Additional Attendee Name & Email\n		\n	\n	\n	\n	\n\n\n	Additional Attendee Name & Email\n		\n	\n	\n	\n	\n\n\n	Additional Attendee Name & Email\n		\n	\n	\n	\n	\n\n\n	Additional Attendee Name & Email\n		\n	\n	\n	\n	\n\n\n	Additional Attendee Name & Email\n		\n	\n	\n	\n	\n\n\n	Additional Attendee Name & Email\n		\n	\n	\n	\n	\n\n\n	Additional Attendee Name & Email\n		\n	\n	\n	\n	\n\n\n	Additional Attendee Name & Email\n		\n	\n	\n	\n	\n\n\n	Additional Attendee Name & Email\n		\n	\n	\n	\n	\n\n\n	Additional Attendee Name & Email\n		\n	\n	\n	\n	\n\n\n	Total\n		\n	\n	 \n	\n	\n\n\n	Payment\n		*\n	\n	\n\n\n\n	\n	\n\n\n	\nRegister\n\n\n\n\n\n\n	\n			\n			\n				If you are human\, leave this field blank.
URL:https://mnafaa.org/event/lunch-learn-subject-matter-to-be-determined-leading-suggestion-ul-overview/
LOCATION:MN Firefighter Museum & Event Hall\, 664 22nd Avenue NE\, Minneapolis\, MN\, 55415\, United States
ORGANIZER;CN="Jill Larson-Vito":MAILTO:Jill.Larson-Vito@siemens.com
END:VEVENT
END:VCALENDAR