BEGIN:VCALENDAR
VERSION:2.0
PRODID:-//MNAFAA - ECPv6.15.12.2//NONSGML v1.0//EN
CALSCALE:GREGORIAN
METHOD:PUBLISH
X-WR-CALNAME:MNAFAA
X-ORIGINAL-URL:https://mnafaa.org
X-WR-CALDESC:Events for MNAFAA
REFRESH-INTERVAL;VALUE=DURATION:PT1H
X-Robots-Tag:noindex
X-PUBLISHED-TTL:PT1H
BEGIN:VTIMEZONE
TZID:Asia/Karachi
BEGIN:STANDARD
TZOFFSETFROM:+0500
TZOFFSETTO:+0500
TZNAME:PKT
DTSTART:20240101T000000
END:STANDARD
END:VTIMEZONE
BEGIN:VTIMEZONE
TZID:UTC
BEGIN:STANDARD
TZOFFSETFROM:+0000
TZOFFSETTO:+0000
TZNAME:UTC
DTSTART:20230101T000000
END:STANDARD
END:VTIMEZONE
BEGIN:VTIMEZONE
TZID:UTC
BEGIN:STANDARD
TZOFFSETFROM:+0000
TZOFFSETTO:+0000
TZNAME:UTC
DTSTART:20230101T000000
END:STANDARD
END:VTIMEZONE
BEGIN:VEVENT
DTSTART;TZID=Asia/Karachi:20250612T113000
DTEND;TZID=Asia/Karachi:20250612T130000
DTSTAMP:20260423T062440
CREATED:20250514T032017Z
LAST-MODIFIED:20250514T032017Z
UID:2387-1749727800-1749733200@mnafaa.org
SUMMARY:Monthly Board Member Meeting – Board Members
DESCRIPTION:Agenda\n\nOpen Meeting & approve agenda\nReview and approve meeting minutes from March board meeting\nReview action items from previous meeting\nFinancial update – Keith Randall\nMembership update – Dan Morehead\nWebsite update\, QR codes\, AHJ Question gathering\, website display @ in person meeting\, Microsoft account – Bob Johnson\nMembership Increase & framework for Corporate sponsorship\, mentorship\, Industry standardizations (NFSA collaaboration) \,\nDiscuss goals for next year of MNAFAA\nContinued discussion of coming year membership in person meeting topics\nOpen Discussion Items\nReview date/time for next board meeting\nSet action items for next board meeting\nClose\n\n\n\nIf you would like to attend as a member of MNAFAA to listen-in or make a motion please contact one of the board members on the Website to ensure you are sent the  invitation to that months meeting.    You may also use the CONTACT tab of the website to request information or make suggestions.
URL:https://mnafaa.org/event/monthly-board-member-meeting-board-members-3/
LOCATION:MN
ORGANIZER;CN="Jill Larson-Vito":MAILTO:Jill.Larson-Vito@siemens.com
END:VEVENT
BEGIN:VEVENT
DTSTART;TZID=Asia/Karachi:20250508T113000
DTEND;TZID=Asia/Karachi:20250508T130000
DTSTAMP:20260423T062440
CREATED:20250315T085954Z
LAST-MODIFIED:20250321T032706Z
UID:2372-1746703800-1746709200@mnafaa.org
SUMMARY:Lunch & Learn – Annual AHJ Round Table & Membership Vote
DESCRIPTION:AHJ Round Table\nAHJs from many jurisdictions fielding questions from membership.    We encourage and ask membership to forward your AHJ questions for this event to minnesotaafaa@gmail.com   Or as always\, use the contacts page to ask a question. \nAnnual Membership Vote\n– Vote to approve draft MNAFAA Bylaws\n– Elections of open board positions\n– Please submit applications 30 days prior.\n– We are interested in Engineer/Designer Member \n\n\n\n\nEvent Registration\nEvent Registration\n\n\n\n\n\n\n\n\n\n\n\n	First Name\n		*\n	\n	\n	\n	\n\n\n	Last Name\n		*\n	\n	\n	\n	\n\n\n	Email\n		*\n	\n	\n	\n	\n\n\n	Company\n		\n	\n	\n	\n	\n\n\nWho will be attending?\n\n\n	Quantity\n		\n	\n	\n	\n	\n\n\n	Individual Member Registered\n		*\n	\n		\n		Individual Member Registered with MNAFAA Product: $45.00	 \n\n	\n	\n	\n	\n\n\n	Quantity\n		\n	\n	\n	\n	\n\n\n	Non-Member of MNAFAA\n		*\n	\n		\n		Non-Member of MNAFAA: $60.00	 \n\n	\n	\n	\n	\n\n\n	Quantity\n		\n	\n	\n	\n	\n\n\n	Authority Having Jurisdiction Registered\n		*\n	\n		\n		AHJ Member Registered with MNAFAA: $20.00	 \n\n	\n	\n	\n	\n\n\n\n	Additional Attendee Name & Email\n		\n	\n	\n	\n	\n\n\n	Additional Attendee Name & Email\n		\n	\n	\n	\n	\n\n\n	Additional Attendee Name & Email\n		\n	\n	\n	\n	\n\n\n	Additional Attendee Name & Email\n		\n	\n	\n	\n	\n\n\n	Additional Attendee Name & Email\n		\n	\n	\n	\n	\n\n\n	Additional Attendee Name & Email\n		\n	\n	\n	\n	\n\n\n	Additional Attendee Name & Email\n		\n	\n	\n	\n	\n\n\n	Additional Attendee Name & Email\n		\n	\n	\n	\n	\n\n\n	Additional Attendee Name & Email\n		\n	\n	\n	\n	\n\n\n	Additional Attendee Name & Email\n		\n	\n	\n	\n	\n\n\n	Additional Attendee Name & Email\n		\n	\n	\n	\n	\n\n\n	Additional Attendee Name & Email\n		\n	\n	\n	\n	\n\n\n	Additional Attendee Name & Email\n		\n	\n	\n	\n	\n\n\n	Additional Attendee Name & Email\n		\n	\n	\n	\n	\n\n\n	Total\n		\n	\n	 \n	\n	\n\n\n	Payment\n		*\n	\n	\n\n\n\n	\n	\n\n\n	\nRegister\n\n\n\n\n\n\n	\n			\n			\n				If you are human\, leave this field blank.			\n			\n		\n		\n\n\n\n\n\n\n 
URL:https://mnafaa.org/event/lunch-learn-annual-ahj-round-table-membership-vote/
LOCATION:MN Firefighter Museum & Event Hall\, 664 22nd Avenue NE\, Minneapolis\, MN\, 55415\, United States
ORGANIZER;CN="Jill Larson-Vito":MAILTO:Jill.Larson-Vito@siemens.com
END:VEVENT
BEGIN:VEVENT
DTSTART;TZID=Asia/Karachi:20250320T110000
DTEND;TZID=Asia/Karachi:20250320T130000
DTSTAMP:20260423T062440
CREATED:20250315T085635Z
LAST-MODIFIED:20250315T085635Z
UID:2370-1742468400-1742475600@mnafaa.org
SUMMARY:Monthly Board Member Meeting – Board Members
DESCRIPTION:Agenda \n\nOpen Meeting & approve agenda\nReview and approve meeting minutes from previous month board meeting\nReview action items from previous meeting\nFinancial update – Keith Randall\nMembership update – Dan Morehead\nWebsite update – Bob Johnson\n\nNotices to membership on website\n\n\nNew Business\nReview date/time for next board meeting\nSet action items for next board meeting\nClose\n\nIf you would like to attend as a member of MNAFAA to listen-in or make a motion please contact one of the board members on the Website to ensure you are sent the  invitation to that months meeting.    You may also use the CONTACT tab of the website to request information or make suggestions. \n 
URL:https://mnafaa.org/event/monthly-board-member-meeting-board-members-2/
LOCATION:MN
CATEGORIES:Elected Board Member Meeting
ORGANIZER;CN="Jill Larson-Vito":MAILTO:Jill.Larson-Vito@siemens.com
END:VEVENT
BEGIN:VEVENT
DTSTART;TZID=UTC:20250313T113000
DTEND;TZID=UTC:20250313T130000
DTSTAMP:20260423T062440
CREATED:20241213T102919Z
LAST-MODIFIED:20250218T022940Z
UID:2247-1741865400-1741870800@mnafaa.org
SUMMARY:Lunch & Learn - NICET open discussion and overview Virtual/hybrid
DESCRIPTION:Presenter will be virtual in an in-person meeting with MNAFAA board members assisting members with in-person questions or comments. \nWhat is NICET\, why do I need it\, How do I get it. \n\nHow to sign up.\nHow to submit paperwork\nStudy Tips and Tricks\nHow to take the Test\n\n \n\n\n\n\nEvent Registration\nEvent Registration\n\n\n\n\n\n\n\n\n\n\n\n	First Name\n		*\n	\n	\n	\n	\n\n\n	Last Name\n		*\n	\n	\n	\n	\n\n\n	Email\n		*\n	\n	\n	\n	\n\n\n	Company\n		\n	\n	\n	\n	\n\n\nWho will be attending?\n\n\n	Quantity\n		\n	\n	\n	\n	\n\n\n	Individual Member Registered\n		*\n	\n		\n		Individual Member Registered with MNAFAA Product: $45.00	 \n\n	\n	\n	\n	\n\n\n	Quantity\n		\n	\n	\n	\n	\n\n\n	Non-Member of MNAFAA\n		*\n	\n		\n		Non-Member of MNAFAA: $60.00	 \n\n	\n	\n	\n	\n\n\n	Quantity\n		\n	\n	\n	\n	\n\n\n	Authority Having Jurisdiction Registered\n		*\n	\n		\n		AHJ Member Registered with MNAFAA: $20.00	 \n\n	\n	\n	\n	\n\n\n\n	Additional Attendee Name & Email\n		\n	\n	\n	\n	\n\n\n	Additional Attendee Name & Email\n		\n	\n	\n	\n	\n\n\n	Additional Attendee Name & Email\n		\n	\n	\n	\n	\n\n\n	Additional Attendee Name & Email\n		\n	\n	\n	\n	\n\n\n	Additional Attendee Name & Email\n		\n	\n	\n	\n	\n\n\n	Additional Attendee Name & Email\n		\n	\n	\n	\n	\n\n\n	Additional Attendee Name & Email\n		\n	\n	\n	\n	\n\n\n	Additional Attendee Name & Email\n		\n	\n	\n	\n	\n\n\n	Additional Attendee Name & Email\n		\n	\n	\n	\n	\n\n\n	Additional Attendee Name & Email\n		\n	\n	\n	\n	\n\n\n	Additional Attendee Name & Email\n		\n	\n	\n	\n	\n\n\n	Additional Attendee Name & Email\n		\n	\n	\n	\n	\n\n\n	Additional Attendee Name & Email\n		\n	\n	\n	\n	\n\n\n	Additional Attendee Name & Email\n		\n	\n	\n	\n	\n\n\n	Total\n		\n	\n	 \n	\n	\n\n\n	Payment\n		*\n	\n	\n\n\n\n	\n	\n\n\n	\nRegister\n\n\n\n\n\n\n	\n			\n			\n				If you are human\, leave this field blank.
URL:https://mnafaa.org/event/lunch-learn-nicet-open-discussion-and-overview/
LOCATION:MN Firefighter Museum & Event Hall\, 664 22nd Avenue NE\, Minneapolis\, MN\, 55415\, United States
ORGANIZER;CN="Jill Larson-Vito":MAILTO:Jill.Larson-Vito@siemens.com
END:VEVENT
BEGIN:VEVENT
DTSTART;TZID=Asia/Karachi:20250220T110000
DTEND;TZID=Asia/Karachi:20250220T130000
DTSTAMP:20260423T062440
CREATED:20250117T044232Z
LAST-MODIFIED:20250117T044232Z
UID:2318-1740049200-1740056400@mnafaa.org
SUMMARY:Monthly Board Member Meeting – Board Members
DESCRIPTION:11:00 AM – Site TBD  & Microsoft Teams \nAgenda \n\nOpen Meeting & approve agenda\nReview and approve meeting minutes from previous month board meeting\nReview action items from previous meeting\nFinancial update – Keith Randall\nMembership update – Dan Morehead\nWebsite update – Bob Johnson\n\nNotices to membership on website\n\n\nNew Business\nReview date/time for next board meeting\nSet action items for next board meeting\nClose\n\nIf you would like to attend as a member of MNAFAA to listen-in or make a motion please contact one of the board members on the Website to ensure you are sent the  invitation to that months meeting.    You may also use the CONTACT tab of the website to request information or make suggestions.
URL:https://mnafaa.org/event/monthly-board-member-meeting-board-members/
LOCATION:MN
ORGANIZER;CN="Jill Larson-Vito":MAILTO:Jill.Larson-Vito@siemens.com
END:VEVENT
BEGIN:VEVENT
DTSTART;TZID=UTC:20250213T113000
DTEND;TZID=UTC:20250213T130000
DTSTAMP:20260423T062440
CREATED:20241106T041041Z
LAST-MODIFIED:20250116T062837Z
UID:1650-1739446200-1739451600@mnafaa.org
SUMMARY:Lunch & Learn - Open Discussion Specialized Detection and releasing systems
DESCRIPTION:Lunch & Learn – Open Discussion Specialized Detection and releasing systems \nStay tuned for new date and time for this meeting.   We will be updating this event once dates are confirmed. \nThis Open membership meeting is available to members and non-members.   We will provide lunch\, presentation\, and open discussion related to specialized detection systems and engineered fire suppression systems and how it relates to life safety automatic fire alarm systems. \nSpecialized detection: \na high level view of  air sampling smoke detection\, spark detection\, explosion detection\, verified detection schemes &  prevention detection. \na brief description of specific functions systems such as Spark suppression\, clean agent suppression\, HPCO2 and LPCO2 and industry best practice on monitoring. \nThis discussion will be limited to how to identify these types of systems and how to properly monitor them as stand alone systems interconnecting them as monitoring points of the fire life safety system.     This will not be an in-depth discussion on how to design\, install\, and test these systems. \nOpen discussion to follow and feedback on future discussions of different topics or a deeper dive on one or more of theses systems. \n\n\n\n\nEvent Registration\nEvent Registration\n\n\n\n\n\n\n\n\n\n\n\n	First Name\n		*\n	\n	\n	\n	\n\n\n	Last Name\n		*\n	\n	\n	\n	\n\n\n	Email\n		*\n	\n	\n	\n	\n\n\n	Company\n		\n	\n	\n	\n	\n\n\nWho will be attending?\n\n\n	Quantity\n		\n	\n	\n	\n	\n\n\n	Individual Member Registered\n		*\n	\n		\n		Individual Member Registered with MNAFAA Product: $45.00	 \n\n	\n	\n	\n	\n\n\n	Quantity\n		\n	\n	\n	\n	\n\n\n	Non-Member of MNAFAA\n		*\n	\n		\n		Non-Member of MNAFAA: $60.00	 \n\n	\n	\n	\n	\n\n\n	Quantity\n		\n	\n	\n	\n	\n\n\n	Authority Having Jurisdiction Registered\n		*\n	\n		\n		AHJ Member Registered with MNAFAA: $20.00	 \n\n	\n	\n	\n	\n\n\n\n	Additional Attendee Name & Email\n		\n	\n	\n	\n	\n\n\n	Additional Attendee Name & Email\n		\n	\n	\n	\n	\n\n\n	Additional Attendee Name & Email\n		\n	\n	\n	\n	\n\n\n	Additional Attendee Name & Email\n		\n	\n	\n	\n	\n\n\n	Additional Attendee Name & Email\n		\n	\n	\n	\n	\n\n\n	Additional Attendee Name & Email\n		\n	\n	\n	\n	\n\n\n	Additional Attendee Name & Email\n		\n	\n	\n	\n	\n\n\n	Additional Attendee Name & Email\n		\n	\n	\n	\n	\n\n\n	Additional Attendee Name & Email\n		\n	\n	\n	\n	\n\n\n	Additional Attendee Name & Email\n		\n	\n	\n	\n	\n\n\n	Additional Attendee Name & Email\n		\n	\n	\n	\n	\n\n\n	Additional Attendee Name & Email\n		\n	\n	\n	\n	\n\n\n	Additional Attendee Name & Email\n		\n	\n	\n	\n	\n\n\n	Additional Attendee Name & Email\n		\n	\n	\n	\n	\n\n\n	Total\n		\n	\n	 \n	\n	\n\n\n	Payment\n		*\n	\n	\n\n\n\n	\n	\n\n\n	\nRegister\n\n\n\n\n\n\n	\n			\n			\n				If you are human\, leave this field blank.
URL:https://mnafaa.org/event/lunch-presentation-meeting/
LOCATION:MN Firefighter Museum & Event Hall\, 664 22nd Avenue NE\, Minneapolis\, MN\, 55415\, United States
ATTACH;FMTTYPE=image/jpeg:https://mnafaa.org/wp-content/uploads/2024/11/Data-Center-Detection.jpg
END:VEVENT
BEGIN:VEVENT
DTSTART;TZID=UTC:20250116T110000
DTEND;TZID=UTC:20250116T130000
DTSTAMP:20260423T062440
CREATED:20241212T063736Z
LAST-MODIFIED:20250117T043229Z
UID:1818-1737025200-1737032400@mnafaa.org
SUMMARY:Monthly Board Member Meeting - Board Members
DESCRIPTION:MN AFAA Board Meeting – January 9th\, 2025 \n3 pm – Site TBD  & Microsoft Teams \nAgenda \n\nOpen Meeting & approve agenda\nReview and approve meeting minutes from previous month board meeting\nReview action items from previous meeting\nFinancial update – Keith Randall\nMembership update – Dan Morehead\nWebsite update – Bob Johnson\n\nNotices on website\nNotices to membershi\n\n\nNew Business\nReview date/time for next board meeting\nSet action items for next board meeting\nClose
URL:https://mnafaa.org/event/monthly-board-member-meeting-january/
LOCATION:MN
END:VEVENT
BEGIN:VEVENT
DTSTART;TZID=UTC:20241212T150000
DTEND;TZID=UTC:20241212T170000
DTSTAMP:20260423T062440
CREATED:20241212T060918Z
LAST-MODIFIED:20250116T063040Z
UID:1815-1734015600-1734022800@mnafaa.org
SUMMARY:Monthly Board Member Meeting - Board Members
DESCRIPTION:MN AFAA Board Meeting – December 12\, 2024 \n3 pm – MTG Headquarters & Microsoft Teams \nAgenda \n\nOpen Meeting & approve agenda\nReview and approve meeting minutes from November board meeting\nReview action items from previous meeting\nFinancial update – Keith Randall\nMembership update – Dan Morehead\nWebsite update – Bob Johnson\nNew Business:\n\nDiscuss upcoming membership meeting in January\n\nTopic – Speaker – Bob Johnson Suppression/Kitchen Hoods\nConfirm Hall\n\n\n\n\n\n\nFood\n\n\nNotices on website\nNotices to membership\n\n\nReview date/time for next board meeting\nSet action items for next board meeting\nClose
URL:https://mnafaa.org/event/board-member-meeting-december-12/
LOCATION:MN
END:VEVENT
BEGIN:VEVENT
DTSTART;TZID=UTC:20241114T113000
DTEND;TZID=UTC:20241114T130000
DTSTAMP:20260423T062440
CREATED:20241030T020424Z
LAST-MODIFIED:20241213T093903Z
UID:1326-1731583800-1731589200@mnafaa.org
SUMMARY:Lunch & Learn  - Demystifying BDA & ERCES open discussion
DESCRIPTION:Presented by Andy Masur ‘That DAS Guy’ From Mobili-fi \nPresentation: Defining BDA\,DAS\, & ERCES systems\, what you need to know in MN\, best practices. \n  \n\n\n\n\nEvent Registration\nEvent Registration\n\n\n\n\n\n\n\n\n\n\n\n	First Name\n		*\n	\n	\n	\n	\n\n\n	Last Name\n		*\n	\n	\n	\n	\n\n\n	Email\n		*\n	\n	\n	\n	\n\n\n	Company\n		\n	\n	\n	\n	\n\n\nWho will be attending?\n\n\n	Quantity\n		\n	\n	\n	\n	\n\n\n	Individual Member Registered\n		*\n	\n		\n		Individual Member Registered with MNAFAA Product: $45.00	 \n\n	\n	\n	\n	\n\n\n	Quantity\n		\n	\n	\n	\n	\n\n\n	Non-Member of MNAFAA\n		*\n	\n		\n		Non-Member of MNAFAA: $60.00	 \n\n	\n	\n	\n	\n\n\n	Quantity\n		\n	\n	\n	\n	\n\n\n	Authority Having Jurisdiction Registered\n		*\n	\n		\n		AHJ Member Registered with MNAFAA: $20.00	 \n\n	\n	\n	\n	\n\n\n\n	Additional Attendee Name & Email\n		\n	\n	\n	\n	\n\n\n	Additional Attendee Name & Email\n		\n	\n	\n	\n	\n\n\n	Additional Attendee Name & Email\n		\n	\n	\n	\n	\n\n\n	Additional Attendee Name & Email\n		\n	\n	\n	\n	\n\n\n	Additional Attendee Name & Email\n		\n	\n	\n	\n	\n\n\n	Additional Attendee Name & Email\n		\n	\n	\n	\n	\n\n\n	Additional Attendee Name & Email\n		\n	\n	\n	\n	\n\n\n	Additional Attendee Name & Email\n		\n	\n	\n	\n	\n\n\n	Additional Attendee Name & Email\n		\n	\n	\n	\n	\n\n\n	Additional Attendee Name & Email\n		\n	\n	\n	\n	\n\n\n	Additional Attendee Name & Email\n		\n	\n	\n	\n	\n\n\n	Additional Attendee Name & Email\n		\n	\n	\n	\n	\n\n\n	Additional Attendee Name & Email\n		\n	\n	\n	\n	\n\n\n	Additional Attendee Name & Email\n		\n	\n	\n	\n	\n\n\n	Total\n		\n	\n	 \n	\n	\n\n\n	Payment\n		*\n	\n	\n\n\n\n	\n	\n\n\n	\nRegister\n\n\n\n\n\n\n	\n			\n			\n				If you are human\, leave this field blank.
URL:https://mnafaa.org/event/demystifying-bda-erces-general-membership-meeting/
LOCATION:MN Firefighter Museum & Event Hall\, 664 22nd Avenue NE\, Minneapolis\, MN\, 55415\, United States
ATTACH;FMTTYPE=image/jpeg:https://mnafaa.org/wp-content/uploads/2024/10/Presentation-BDA-image.jpeg
END:VEVENT
BEGIN:VEVENT
DTSTART;TZID=UTC:20241030T130000
DTEND;TZID=UTC:20241030T163000
DTSTAMP:20260423T062440
CREATED:20241029T222455Z
LAST-MODIFIED:20241030T020631Z
UID:1161-1730293200-1730305800@mnafaa.org
SUMMARY:Board Member Meeting – Strategy Session
DESCRIPTION:Identify MNAFAA Goals & how to implement & execute.
URL:https://mnafaa.org/event/board-member-meeting-strategy-session/
LOCATION:MN
ATTACH;FMTTYPE=image/jpeg:https://mnafaa.org/wp-content/uploads/2024/10/Smoke-Alarm-1.jpg
END:VEVENT
END:VCALENDAR