BEGIN:VCALENDAR
VERSION:2.0
PRODID:-//MNAFAA - ECPv6.15.12.2//NONSGML v1.0//EN
CALSCALE:GREGORIAN
METHOD:PUBLISH
X-WR-CALNAME:MNAFAA
X-ORIGINAL-URL:https://mnafaa.org
X-WR-CALDESC:Events for MNAFAA
REFRESH-INTERVAL;VALUE=DURATION:PT1H
X-Robots-Tag:noindex
X-PUBLISHED-TTL:PT1H
BEGIN:VTIMEZONE
TZID:Asia/Karachi
BEGIN:STANDARD
TZOFFSETFROM:+0500
TZOFFSETTO:+0500
TZNAME:PKT
DTSTART:20250101T000000
END:STANDARD
END:VTIMEZONE
BEGIN:VEVENT
DTSTART;TZID=Asia/Karachi:20260514T103000
DTEND;TZID=Asia/Karachi:20260514T130000
DTSTAMP:20260422T054703
CREATED:20250514T054700Z
LAST-MODIFIED:20260317T171819Z
UID:2404-1778754600-1778763600@mnafaa.org
SUMMARY:Lunch & Learn The future of the MN Fire Alarm Industry  - Round Table - Open membership discussion with panel member response
DESCRIPTION:Looking for questions to compile throughout the year.  Never too early to submit a question on the CONTACT page. \nItems to consider \n\nPanel Members\nPre-Determined questions for panel members\n\nfrom Membership and Board.\n\n\nState fire marshals office\n\nReviewing the industry \n\nMinnesota performance as an industry\nItems to improve in Minnesota\n\nHow to improve.\n\n\nMinnesota general Best practices we are leading or excelling.\n\n  \nThis event is not yet Set with a presenter.   If you have a suggestion or question\, we would love to hear from you. \nEvent subject\, presenter\, Code question\, future AHJ question\, Board member question.   Use the “Contact” page on the website.
URL:https://mnafaa.org/event/lunch-learn-subject-matter-to-be-determined-leading-suggestion-annual-ahj-round-table-submit-questions-now/
LOCATION:MN Firefighter Museum & Event Hall\, 664 22nd Avenue NE\, Minneapolis\, MN\, 55415\, United States
CATEGORIES:Lunch & Learn
ORGANIZER;CN="Jill Larson-Vito":MAILTO:Jill.Larson-Vito@siemens.com
END:VEVENT
END:VCALENDAR